BEGIN:VCALENDAR
VERSION:2.0
PRODID:-//Squarespace Inc/Squarespace 6//v6//EN
BEGIN:VEVENT
UID:5c8f0e168165f5872937c698@squarespace.com
DTSTAMP:20190318T032417Z
DTSTART:20190406T190000Z
DTEND:20190406T210000Z
SUMMARY:NHRU Round 1
GEO:-32.893034;151.703488
LOCATION:Bernie Curran Oval\, Sportsground No. 1 Wirra Crescent\, Callaghan
 \, NSW 2308\, Callaghan\, NSW 2308\, Australia
END:VEVENT
END:VCALENDAR
