BEGIN:VCALENDAR
VERSION:2.0
PRODID:-//Squarespace Inc/Squarespace 6//v6//EN
BEGIN:VEVENT
UID:5bf637cfaa4a997b55ba18af@squarespace.com
DTSTAMP:20190318T031846Z
DTSTART:20190329T160000Z
DTEND:20190329T190000Z
SUMMARY:President's Lunch
GEO:-32.921529;151.759999
LOCATION:Albion Hotel\, 72 Hannell Street\, Wickham\, NSW\, 2293\, Australi
 a
END:VEVENT
END:VCALENDAR
