BEGIN:VCALENDAR
VERSION:2.0
PRODID:-//Squarespace Inc/Squarespace 6//v6//EN
BEGIN:VEVENT
UID:5cda090e15fcc0ead6ae4e57@squarespace.com
DTSTAMP:20190514T002357Z
DTSTART:20190518T190000Z
DTEND:20190518T210000Z
SUMMARY:NHRU Round 6
GEO:-32.917875;151.753479
LOCATION:Passmore Oval\, Albert Street\, Wickham NSW 2293\, Australia
END:VEVENT
END:VCALENDAR
