BEGIN:VCALENDAR
VERSION:2.0
PRODID:-//Squarespace Inc/Squarespace 6//v6//EN
BEGIN:VEVENT
UID:5cda0a9dc830258dff39e2dc@squarespace.com
DTSTAMP:20190514T002702Z
DTSTART:20190525T190000Z
DTEND:20190525T210000Z
SUMMARY:NHRU Round 7
GEO:-32.941828;151.754658
LOCATION:Townson Oval\, 24 Mitchell Street\, Merewether\, NSW 2290\, Austra
 lia
END:VEVENT
END:VCALENDAR
